BEGIN:VCALENDAR
VERSION:2.0
PRODID:-//GOKSiT Suchowola - ECPv6.0.1//NONSGML v1.0//EN
CALSCALE:GREGORIAN
METHOD:PUBLISH
X-WR-CALNAME:GOKSiT Suchowola
X-ORIGINAL-URL:https://goksuchowola.pl
X-WR-CALDESC:Events for GOKSiT Suchowola
REFRESH-INTERVAL;VALUE=DURATION:PT1H
X-Robots-Tag:noindex
X-PUBLISHED-TTL:PT1H
BEGIN:VTIMEZONE
TZID:Europe/Warsaw
BEGIN:DAYLIGHT
TZOFFSETFROM:+0100
TZOFFSETTO:+0200
TZNAME:CEST
DTSTART:20250330T010000
END:DAYLIGHT
BEGIN:STANDARD
TZOFFSETFROM:+0200
TZOFFSETTO:+0100
TZNAME:CET
DTSTART:20251026T010000
END:STANDARD
BEGIN:DAYLIGHT
TZOFFSETFROM:+0100
TZOFFSETTO:+0200
TZNAME:CEST
DTSTART:20260329T010000
END:DAYLIGHT
BEGIN:STANDARD
TZOFFSETFROM:+0200
TZOFFSETTO:+0100
TZNAME:CET
DTSTART:20261025T010000
END:STANDARD
END:VTIMEZONE
BEGIN:VEVENT
DTSTART;VALUE=DATE:20250602
DTEND;VALUE=DATE:20250603
DTSTAMP:20260422T101940
CREATED:20250610T084458Z
LAST-MODIFIED:20250610T084459Z
UID:3762-1748822400-1748908799@goksuchowola.pl
SUMMARY:ROZSTRZYGNIĘCIE KONKURSU - "PODLASKIE OPOWIEŚCI - TRADYCJE W OBIEKTYWIE MŁODYCH"
DESCRIPTION:Z przyjemnością informujemy o rozstrzygnięciu konkursu „Podlaskie opowieści – tradycje w obiektywie młodych” \nW ramach konkursu uczestnicy mieli za zadanie nagrać filmik z osobą starszą z terenu naszej gminy\, uwieczniając wspomnienia\, historię\, tradycje lub inne ciekawe aspekty z życia seniorów.\nNa konkurs napłynęło 14 zgłoszeń\, co świadczy o dużym zaangażowaniu i zainteresowaniu tematem. Komisja konkursowa oceniała prace pod kątem ogólnego efektu artystycznego\, kreatywności i\noryginalności przedstawienia tematu\, zaangażowania zarówno seniora\, jak i młodzieży w proces nagrania\, jakości narracji\, użycia gwary\, a także wartości kulturowej materiałów i ich znaczenia w\nkontekście międzypokoleniowego przekazu tradycji. \nDziękujemy wszystkim uczestnikom za udział i wkład w promowanie naszych lokalnych tradycji oraz\nza piękne\, inspirujące projekty. \nKategoria do lat 14:\nHanna Andraka – I miejsce\, nagroda rzeczowa\, \n \nZuzanna Kownacka – I miejsce\, nagroda rzeczowa\, \n \nWiktoria Modzelewska – II miejsce\, nagroda rzeczowa\, \n \nHanna Zdanewicz – III miejsce\, nagroda rzeczowa\, \n \nWiktoria Chilicka – III miejsce\, nagroda rzeczowa\, \n \nAlicja Omielan – III miejsce\, nagroda rzeczowa\, \n\n \nAmelia Misarko – wyróżnienie\, nagroda rzeczowa\, \n \nZuzanna Komosa – wyróżnienie\, nagroda rzeczowa\, \n \nJakub Sienkiewicz – wyróżnienie\, nagroda rzeczowa\, \n \nDawid Misiewicz – wyróżnienie\, nagroda rzeczowa\, \n \nUla Kiluk – wyróżnienie\, nagroda rzeczowa\, \n \nAleksandra Sienkiewicz – wyróżnienie\, nagroda rzeczowa\, \n \nAlicja Zdanewicz – wyróżnienie\, nagroda rzeczowa\, \n \nKategoria od 15 lat:\nDamian Misiewicz – I miejsce\, nagroda rzeczowa\, \n \nGratulujemy wszystkim i zachęcamy do dalszej aktywności! \nOrganizatorem konkursu jest GOKSiT Suchowola. Konkurs realizowany jest w ramach projektu „Podlaskie korzenie: gwara\, tradycje i społeczność”\, dofinansowanego z programu Krajowego Planu Odbudowy i Zwiększania Odporności. \nProtokół z konkursu
URL:https://goksuchowola.pl/wydarzenia/rozstrzygniecie-konkursu-podlaskie-opowiesci-tradycje-w-obiektywie-mlodych/
CATEGORIES:GOKSiT,Strona główna
ATTACH;FMTTYPE=image/jpeg:https://goksuchowola.pl/wp-content/uploads/2025/06/kpoblogheader.jpg
END:VEVENT
BEGIN:VEVENT
DTSTART;TZID=Europe/Warsaw:20250706T120000
DTEND;TZID=Europe/Warsaw:20250706T230000
DTSTAMP:20260422T101940
CREATED:20250625T105016Z
LAST-MODIFIED:20250625T105054Z
UID:3785-1751803200-1751842800@goksuchowola.pl
SUMMARY:
DESCRIPTION:Zapraszamy na wyjątkowe wydarzenie muzyczne: \nXXIII Europarada Orkiestr Dętych w Centrum Europy – Suchowola 2025 !\nData: 6 lipca 2025\nMiejsce: Suchowola – Geograficzny Środek Europy \n\n\n\n\nTo niezwykła okazja\, by podziwiać piękne brzmienia zaproszonych orkiestr dętych.\n\n\nNa Europaradzie Orkiestr Dętych w Suchowoli czeka na Was mnóstwo muzycznych atrakcji!\n\n\n\nBędziecie mieli okazję posłuchać niesamowitych utworów w wykonaniu orkiestr oraz podziwiać utalentowane mażoretki i grupy taneczne\n\n\nNa scenie wystąpi dla Was też suchowolski zespół The Rotters.\n\n\n\nWieczorem wystąpi zespół VIDEO – znany z takich utworów jak: „Środa czwartek”\, „Wszystko jedno”\, „Bella”\, „Soft”\, „Papieros”\, „Szminki róż”\, „Ktoś nowy”! Koncert odbędzie się na plenerowej scenie w sercu naszego miasteczka – w parku.\n\n\nDla najmłodszych przygotowaliśmy bezpłatne dmuchańce.\nPrzyjdźcie ze swoimi bliskimi i spędźcie fantastyczny czas w otoczeniu wspaniałej muzyki i ludzi!\n\n\nPartnerem strategicznym wydarzenia jest Województwo Podlaskie.\n\n\n\n\n\nLink do wydarzenia FB – XXIII Europarada Orkiestr Dętych w Centrum Europy – Suchowola 2025:\nhttps://fb.me/e/83uQlt0gr\n\n\nLink do wydarzenia FB – Koncert zespołu VIDEO w Suchowoli:\nhttps://fb.me/e/67yLPlwXF\n\n\n\nWSTĘP WOLNY!!!\n\n\nDo zobaczenia na Europaradzie Orkiestr Dętych w Suchowoli!
URL:https://goksuchowola.pl/wydarzenia/3785/
CATEGORIES:GOKSiT,Strona główna
ATTACH;FMTTYPE=image/png:https://goksuchowola.pl/wp-content/uploads/2025/06/europarada-2025-plakat-wer-2-3.png
END:VEVENT
BEGIN:VEVENT
DTSTART;TZID=Europe/Warsaw:20250902T080000
DTEND;TZID=Europe/Warsaw:20250902T170000
DTSTAMP:20260422T101940
CREATED:20250902T104821Z
LAST-MODIFIED:20250902T105047Z
UID:3810-1756800000-1756832400@goksuchowola.pl
SUMMARY:MIĘDZYNARODOWY FESTIWAL MŁODZIEŻOWYCH ORKIESTR DĘTYCH W SINDOS (GRECJA)
DESCRIPTION:Młodzieżowa Orkiestra Dęta z Suchowoli reprezentowała gminę Suchowola oraz Województwo Podlaskie na Międzynarodowym Festiwalu Młodzieżowych Orkiestr Dętych\, który odbył się w\nGreckim mieście Sindos koło Salonik\, w dniach 27-30 sierpnia 2025 r. \nYOUTH BAND FESTIVAL \nhttps://www.facebook.com/internationalyouthbandfestival/ \nWsparcie finansowe i Partner Strategiczny Przedsięwzięcia – Województwo Podlaskie
URL:https://goksuchowola.pl/wydarzenia/miedzynarodowy-festiwal-mlodziezowych-orkiestr-detych-w-sindos-grecja/
CATEGORIES:GOKSiT,Strona główna
ATTACH;FMTTYPE=image/jpeg:https://goksuchowola.pl/wp-content/uploads/2025/09/542326326_17901429270255613_2941606806045463046_n.jpg
END:VEVENT
BEGIN:VEVENT
DTSTART;VALUE=DATE:20250910
DTEND;VALUE=DATE:20250911
DTSTAMP:20260422T101940
CREATED:20260102T085044Z
LAST-MODIFIED:20260102T085045Z
UID:3831-1757462400-1757548799@goksuchowola.pl
SUMMARY:POPRAWA WARUNKÓW WYPOSAŻENI GOKSIT W SUCHOWOLI
DESCRIPTION:Gminny Ośrodek Kultury Sportu i Turystyki realizuje projekt: „Poprawa warunków wyposażeni GOKSiT w Suchowoli” ze środków finansowych Ministra Kultury i Dziedzictwa Narodowego pochodzących z Funduszu Promocji Kultury. Wysokość dotacji 60 000 zł.\nDzięki pozyskanym środkom zakupiliśmy bardzo nam potrzebny w codziennej pracy sprzęt i wyposażeni. Wierzymy\, że pomoże nam to podnieść jakość naszych usług i rozszerzyć ofertę jaką do naszych odbiorców.
URL:https://goksuchowola.pl/wydarzenia/poprawa-warunkow-wyposazeni-goksit-w-suchowoli/
CATEGORIES:GOKSiT,Strona główna
ATTACH;FMTTYPE=image/jpeg:https://goksuchowola.pl/wp-content/uploads/2026/01/dotacja-MKiDN_-_WWW_poziom_rgb.jpg
END:VEVENT
BEGIN:VEVENT
DTSTART;TZID=Europe/Warsaw:20250914T100000
DTEND;TZID=Europe/Warsaw:20250914T190000
DTSTAMP:20260422T101940
CREATED:20250915T075616Z
LAST-MODIFIED:20250915T101701Z
UID:3822-1757844000-1757876400@goksuchowola.pl
SUMMARY:OBCHODY 78. ROCZNICY URODZIN BŁ. KS. JERZEGO POPIEŁUSZKI
DESCRIPTION:Serdecznie zapraszamy na obchody 78. rocznicy urodzin bł. ks. Jerzego Popiełuszki\, które odbędą się w niedzielę 14 września 2025 roku w Suchowoli oraz Okopach.\nProgram wydarzenia obejmuje m.in.:\n10.30 – Złożenie wieńców przez delegacje pod pomnikiem bł. ks. Jerzego Popiełuszki w Suchowoli\n12.00 – Uroczysta Msza św. w Okopach z udziałem pocztów sztandarowych\n13.30 – Koncert pt. „Ku wolności” w wykonaniu zespołu Wyrwani Z Niewoli (Okopy)\n\nOrganizatorzy:\nFundacja im.Ks. Jerzego Popiełuszko „Dobro”\nMuzeum Podlaskie w Białymstoku\nInstytut Pamięci Narodowej Oddział w Białymstoku\nParafia Rzymskokatolicka pw. św. Apostołów Piotra i Pawła w Suchowoli\nBurmistrz Suchowoli\nPartner strategiczny – Województwo Podlaskie
URL:https://goksuchowola.pl/wydarzenia/obchody-78-rocznicy-urodzin-bl-ks-jerzego-popieluszki/
CATEGORIES:GOKSiT,Strona główna
ATTACH;FMTTYPE=image/png:https://goksuchowola.pl/wp-content/uploads/2025/09/plakat_A2_popieluszko2025-1.png
END:VEVENT
BEGIN:VEVENT
DTSTART;TZID=Europe/Warsaw:20251115T170000
DTEND;TZID=Europe/Warsaw:20251115T210000
DTSTAMP:20260422T101940
CREATED:20251112T110646Z
LAST-MODIFIED:20251112T110646Z
UID:3827-1763226000-1763240400@goksuchowola.pl
SUMMARY:JUBILEUSZ 10-LECIA DZIAŁALNOŚCI CHÓRU SENIORA „SUCHOWOLSKIE NUTKI”
DESCRIPTION:Serdecznie zapraszamy na Jubileusz 10-lecia działalności chóru seniora „Suchowolskie Nutki”.\nDziesięć lat wspólnego muzykowania to nie tylko liczba lat – to tysiące dźwięków\, wspólnych chwil\,\nkoncertów i emocji\, które złożyły się na niezwykłą opowieść o pasji\, zaangażowaniu i miłości do\nmuzyki. Dzięki ich pracy\, energii i sercu „Suchowolskie Nutki” stały się ważną częścią kulturalnego\nżycia naszej suchowolskiej społeczności. \n\n15 listopada 2025 r.\,\ngodz. 17:00\,\nSala Kina Kometa w Suchowoli\n\nW programie:\n– muzyczna podróż przez 10 lat działalności artystycznej zespołu\n– występy zaproszonych gości\n– słodki poczęstunek\nPartnerem strategicznym wydarzenia jest Województwo Podlaskie \n 
URL:https://goksuchowola.pl/wydarzenia/jubileusz-10-lecia-dzialalnosci-choru-seniora-suchowolskie-nutki/
CATEGORIES:GOKSiT,Strona główna
ATTACH;FMTTYPE=image/png:https://goksuchowola.pl/wp-content/uploads/2025/11/10-lecie-choru.png
END:VEVENT
BEGIN:VEVENT
DTSTART;TZID=Europe/Warsaw:20260308T130000
DTEND;TZID=Europe/Warsaw:20260308T160000
DTSTAMP:20260422T101940
CREATED:20260226T092728Z
LAST-MODIFIED:20260226T092728Z
UID:3848-1772974800-1772985600@goksuchowola.pl
SUMMARY:DZIEŃ KOBIET W SUCHOWOLI!
DESCRIPTION:Zapraszamy wszystkie Panie (i Panów!) na wyjątkowe obchody Dnia Kobiet w Suchowoli!\n\n\n– 8 marca 2026 (niedziela)\n– Godz. 13:00\n– Kino Kometa w Suchowoli\n\n\nW programie:\n– Koncert zespołu MITRA z Gdyni\n– Wernisaż wystawy „Między światem a kolorem”\n– Poczęstunek przygotowany przez KGW Koło Gospodyń Wiejskich „Suchowolanki”\n\n\n– Bezpłatne wejściówki do odbioru w biurze GOKSiT Suchowola\n\n\n– Partner strategiczny wydarzenia Województwo Podlaskie
URL:https://goksuchowola.pl/wydarzenia/dzien-kobiet-w-suchowoli/
CATEGORIES:GOKSiT,Strona główna
ATTACH;FMTTYPE=image/png:https://goksuchowola.pl/wp-content/uploads/2026/02/plakat-Dzien-Kobiet-koncert.png
END:VEVENT
BEGIN:VEVENT
DTSTART;TZID=Europe/Warsaw:20260418T163000
DTEND;TZID=Europe/Warsaw:20260418T200000
DTSTAMP:20260422T101940
CREATED:20260409T120853Z
LAST-MODIFIED:20260409T120945Z
UID:3866-1776529800-1776542400@goksuchowola.pl
SUMMARY:„Z PIEŚNIĄ I PSOTĄ\, CZYLI JAK DAWNIEJ W WIELKANOC BYWAŁO”
DESCRIPTION:Zapraszamy na prezentację spektaklu pt. „Z pieśnią i psotą\, czyli jak dawniej w Wielkanoc bywało” w wykonaniu Suchowolskiej Grupy Teatralnej. \nWydarzenie odbędzie się 18 kwietnia 2026 roku w Sali Kina Kometa w Suchowoli. Tego dnia zaplanowano dwa pokazy: o godzinie 16:30 – pokaz przedpremierowy oraz o godzinie 18:30 – premierę spektaklu. \nPo premierze zapraszamy wszystkich uczestników na słodki poczęstunek przygotowany przez KGW Suchowolanki. \nWstęp na wydarzenie jest bezpłatny. Wejściówki można odebrać osobiście w biurze GOKSiT Suchowola. Prosimy o zwrócenie uwagi na kolor wejściówki\, który odpowiada godzinie spektaklu\, oraz o przybycie z odpowiednim wyprzedzeniem i zabranie wejściówki ze sobą – będzie ona sprawdzana przy wejściu. \nPartner strategiczny wydarzenia oraz wsparcie finansowe: jest Województwo Podlaskie. \n 
URL:https://goksuchowola.pl/wydarzenia/z-piesnia-i-psota-czyli-jak-dawniej-w-wielkanoc-bywalo/
CATEGORIES:GOKSiT,Strona główna
ATTACH;FMTTYPE=image/png:https://goksuchowola.pl/wp-content/uploads/2026/04/Projekt-bez-nazwy-5-1.png
END:VEVENT
END:VCALENDAR